BEGIN:VCALENDAR
VERSION:2.0
PRODID:-//Stefan Steeg DIE KOCHSCHULE - ECPv4.9.13//NONSGML v1.0//EN
CALSCALE:GREGORIAN
METHOD:PUBLISH
X-WR-CALNAME:Stefan Steeg DIE KOCHSCHULE
X-ORIGINAL-URL:https://die-kochschule-koblenz.de
X-WR-CALDESC:Veranstaltungen für Stefan Steeg DIE KOCHSCHULE
BEGIN:VTIMEZONE
TZID:UTC
BEGIN:STANDARD
TZOFFSETFROM:+0000
TZOFFSETTO:+0000
TZNAME:UTC
DTSTART:20250101T000000
END:STANDARD
END:VTIMEZONE
BEGIN:VEVENT
DTSTART;TZID=UTC:20250925T180000
DTEND;TZID=UTC:20250925T230000
DTSTAMP:20260423T150115
CREATED:20250403T083212Z
LAST-MODIFIED:20250403T083212Z
UID:53878-1758823200-1758841200@die-kochschule-koblenz.de
SUMMARY:Thailändischer Abend mit Andy 25.09.2025
DESCRIPTION:Liebe Teilnehmerinnen & Teilnehmer\, \nentdecken Sie die geschmackvolle Küche Thailands & genießen Sie viele Geschmacksrichtungen.\nUnser Koch wird Sie davon überzeugen\, dass auch Anfänger dieses leckere Gericht ganz einfach zu Hause nachkochen können. \nAuch für Vegetarier geeignet. \nAblauf: \n– Beginn 18 Uhr mit einem Sektempfang\n– Ansprache Koch und Zutateneinweisung + Erklärung Besonderheiten\n– Zubereitung der Speise\n– Gemeinsame Verkostung & gemütliches Beisammensein\n– Verteilung der Rezeptmappe \nDauer max. 4-5 Stunden\nTeilnehmer: max. 16\nSie erhalten als Teilnehmer eine Schürze als Giveaway und das Rezept des Abends. \n–> Neuer Standort: Mailust 2\, Koblenz (neben Globus Tankstelle) \nThailändisches Menü  \nTom Kha Gai mit Som Tam \n*** \nGrünes Thai Curry mit Reis \n*** \nSticky Rice mit Mango \n
URL:https://die-kochschule-koblenz.de/event/thailaendischer-abend-mit-andy-25-09-2025/
END:VEVENT
END:VCALENDAR