BEGIN:VCALENDAR
VERSION:2.0
PRODID:-//Stefan Steeg DIE KOCHSCHULE - ECPv4.9.13//NONSGML v1.0//EN
CALSCALE:GREGORIAN
METHOD:PUBLISH
X-WR-CALNAME:Stefan Steeg DIE KOCHSCHULE
X-ORIGINAL-URL:https://die-kochschule-koblenz.de
X-WR-CALDESC:Veranstaltungen für Stefan Steeg DIE KOCHSCHULE
BEGIN:VTIMEZONE
TZID:UTC
BEGIN:STANDARD
TZOFFSETFROM:+0000
TZOFFSETTO:+0000
TZNAME:UTC
DTSTART:20260101T000000
END:STANDARD
END:VTIMEZONE
BEGIN:VEVENT
DTSTART;TZID=UTC:20260507T180000
DTEND;TZID=UTC:20260507T230000
DTSTAMP:20260421T135638
CREATED:20251107T095122Z
LAST-MODIFIED:20260311T082108Z
UID:55981-1778176800-1778194800@die-kochschule-koblenz.de
SUMMARY:Muttertag-Kochkurs - Zeit zum Genießen & Verwöhnen 07.05.2026
DESCRIPTION:Liebe Kochbegeisterte\, \nÜberrasche deine Mama mit einem besonderen Erlebnis: einem genussvollen Muttertags-Kochkurs! Gemeinsam zaubern wir ein frühlingshaftes Menü voller Farbe\, Frische und Liebe.\nOb als Geschenk oder als gemeinsamer Tag – dieser Kochkurs steht ganz im Zeichen von Genuss\, Wertschätzung und schönen Momenten.\nLerne\, wie du mit einfachen Zutaten raffinierte Gerichte kreierst und dabei jede Menge Spaß hast.\nZum Abschluss genießen wir unser Menü in gemütlicher Runde – ein Erlebnis\, das in Erinnerung bleibt. \nDieser Kurs ist auch für Vegetarier geeignet!\nSollten Sie Unverträglichkeiten/Allergien haben\, teilen Sie uns dies einfach in Ihrer Buchung mit.  \n\nAblauf des Kochabends \nBeginn: 18:00 Uhr \nDauer: ca. 4–5 Stunden \nTeilnehmerzahl: max. 16 Personen \n\nSektempfang & Begrüßung\nWillkommen und Einstimmung auf den kulinarischen Abend.\nAnsprache des Kochs & Einführung in die Zutaten\nVorstellung der Gerichte\, Besonderheiten der Produkte und Tipps vom Profi.\nGemeinsame Zubereitung der Speisen\nKochen\, lernen und genießen – Schritt für Schritt mit Anleitung.\nVerkostung & gemütliches Beisammensein\nGemeinsames Essen der zubereiteten Menüs in entspannter Atmosphäre.\nRezeptmappe zum Mitnehmen\nAlle Rezepte des Abends für Zuhause.\n\nDas Menü des Abends \n  \nGebackene Kopfsalatherzen mit Sauerrahmdip\, Nüssen\, Kräutern und Dinkelbrot \n***\nRoastbeef mit Spargel\, Mango\, Cherry-Tomate\, Hollandaise und Kartoffel-Wasabi-Püree \n***\nLimettenmousse mit Schwarzem-Johannesbeeren -Sorbet \nStandort: Mailust 2\, 56070 Koblenz\n(Die Kochschule befindet sich neben der Globus Tankstelle\, im Gebäude Steeg Das Wohnkonzept. \nParkmöglichkeiten sind vor Ort verfügbar)  \n  \n
URL:https://die-kochschule-koblenz.de/event/muttertag-kochkurs-zeit-zum-geniessen-verwoehnen-07-05-2026/
END:VEVENT
END:VCALENDAR