BEGIN:VCALENDAR
VERSION:2.0
PRODID:-//Stefan Steeg DIE KOCHSCHULE - ECPv4.9.13//NONSGML v1.0//EN
CALSCALE:GREGORIAN
METHOD:PUBLISH
X-WR-CALNAME:Stefan Steeg DIE KOCHSCHULE
X-ORIGINAL-URL:https://die-kochschule-koblenz.de
X-WR-CALDESC:Veranstaltungen für Stefan Steeg DIE KOCHSCHULE
BEGIN:VTIMEZONE
TZID:UTC
BEGIN:STANDARD
TZOFFSETFROM:+0000
TZOFFSETTO:+0000
TZNAME:UTC
DTSTART:20250101T000000
END:STANDARD
END:VTIMEZONE
BEGIN:VEVENT
DTSTART;TZID=UTC:20251120T180000
DTEND;TZID=UTC:20251120T230000
DTSTAMP:20260422T103445
CREATED:20250527T075755Z
LAST-MODIFIED:20250717T115746Z
UID:54351-1763661600-1763679600@die-kochschule-koblenz.de
SUMMARY:Köstliche Alpenküche "Der Berg ruft" 20.11.2025
DESCRIPTION:Liebe Teilnehmerinnen & Teilnehmer\, \nentdecken und erleben Sie die bayrische Alpenküche. Die leckere und genussvolle Alpenküche ist deftig\, schmackhaft und modern.\nWir starten wieder in unsere beliebte Alpenwoche. Schmeißen Sie die Schürze um und erleben Sie einen Gaumenschmaus. \nAblauf: \n– Beginn 18 Uhr mit einem Sektempfang\n– Ansprache Koch und Zutateneinweisung + Erklärung Besonderheiten\n– Zubereitung der Speisen\n– Gemeinsame Verkostung & gemütliches Beisammensein\n– Verteilung der Rezeptmappe \nDauer max. 4-5 Stunden (Teilnehmer maximal 16) \n  \nDas Menü des Abends \nSchlutzkrapfen mit Spinatfüllung\, Knoblauchbutter\, Parmesan und Pinienkernen \n*** \nZüricher Greschnetzeltes mit Berner Rösti und Nüsslisalat \n*** \nApfelstrudel mit Vanillesauce \n
URL:https://die-kochschule-koblenz.de/event/koestliche-alpenkueche-der-berg-ruft-20-11-2025/
END:VEVENT
END:VCALENDAR