BEGIN:VCALENDAR
VERSION:2.0
PRODID:-//Stefan Steeg DIE KOCHSCHULE - ECPv4.9.13//NONSGML v1.0//EN
CALSCALE:GREGORIAN
METHOD:PUBLISH
X-WR-CALNAME:Stefan Steeg DIE KOCHSCHULE
X-ORIGINAL-URL:https://die-kochschule-koblenz.de
X-WR-CALDESC:Veranstaltungen für Stefan Steeg DIE KOCHSCHULE
BEGIN:VTIMEZONE
TZID:UTC
BEGIN:STANDARD
TZOFFSETFROM:+0000
TZOFFSETTO:+0000
TZNAME:UTC
DTSTART:20260101T000000
END:STANDARD
END:VTIMEZONE
BEGIN:VEVENT
DTSTART;TZID=UTC:20260424T170000
DTEND;TZID=UTC:20260424T230000
DTSTAMP:20260421T152150
CREATED:20251107T085108Z
LAST-MODIFIED:20251107T085108Z
UID:55940-1777050000-1777071600@die-kochschule-koblenz.de
SUMMARY:Hefeteig/Backseminar 24.04.2026
DESCRIPTION:Liebe Kochbegeisterter\, \nIn diesem Backseminar zeigen wir\, wie man ganz einfach auch im Alltag eingebaut sein Brot sowie Brötchen mit etwas Übung selber zuhause hinbekommt. Auch mit einfachsten Mitteln. Tipps und Tricks von unserem Koch / Patissière mit Jahrelanger Backerfahrung für das Umsetzen sind natürlich inklusive. \nHefeteig Seminar / Backkurs \nWas wird in unserem Brotbackseminar gemacht? \n\nAllgemeine Infos zu Hefeteigansetzen und Verarbeiten im Alltag\nAnsätzen von Sauerteig\nVon langen Reifezeiten bis zum schnellen Hefeteig\nVerschiedene Hefeteige von Ciabatte bis hin zu Vollkornroggenbrot\nBunte Mittagsbrotzeit mit ausgefallen Brotkreationen\n\nDas bekommen Sie mit Nachhause! \n\nDas gebackene Brot kann mit nach Hause genommen werden.\nSauerteig im Weckglas für Zuhause zum Füttern\nFreestyle Brot\nRezepte und Tipps\n\nDauer: 17-21 Uhr \nStandort: Mailust 2\, 56070 Koblenz\n(Die Kochschule befindet sich neben der Globus Tankstelle\, im Gebäude Steeg Das Wohnkonzept. \nParkmöglichkeiten sind vor Ort verfügbar)  \n
URL:https://die-kochschule-koblenz.de/event/hefeteig-backseminar-24-04-2026/
END:VEVENT
END:VCALENDAR