BEGIN:VCALENDAR
VERSION:2.0
PRODID:-//Stefan Steeg DIE KOCHSCHULE - ECPv4.9.13//NONSGML v1.0//EN
CALSCALE:GREGORIAN
METHOD:PUBLISH
X-WR-CALNAME:Stefan Steeg DIE KOCHSCHULE
X-ORIGINAL-URL:https://die-kochschule-koblenz.de
X-WR-CALDESC:Veranstaltungen für Stefan Steeg DIE KOCHSCHULE
BEGIN:VTIMEZONE
TZID:UTC
BEGIN:STANDARD
TZOFFSETFROM:+0000
TZOFFSETTO:+0000
TZNAME:UTC
DTSTART:20250101T000000
END:STANDARD
END:VTIMEZONE
BEGIN:VEVENT
DTSTART;TZID=UTC:20251127T180000
DTEND;TZID=UTC:20251127T230000
DTSTAMP:20260422T002834
CREATED:20250527T081929Z
LAST-MODIFIED:20250527T081929Z
UID:54368-1764266400-1764284400@die-kochschule-koblenz.de
SUMMARY:Christmas Cooking 27.11.2025 - NEU -
DESCRIPTION:Weihnachtskochkurs  \nLiebe Teilnehmerinnen\, liebe Teilnehmer\, \nstimmen Sie sich auf die bevorstehende Weihnachtszeit ein und erleben Sie einen entspannten und geschmackvollen Abend in unserer Kochschule.\nUnter Anleitung von unserem Koch zaubern Sie ein tolles Menü. \nAblauf: \n– Beginn 18 Uhr mit einem Sektempfang\n– Ansprache Koch und Zutateneinweisung + Erklärung Besonderheiten\n– Zubereitung der Speise\n– Gemeinsame Verkostung & gemütliches Beisammensein\n– Verteilung der Rezeptmappe \nDauer max. 4-5 Stunden\nTeilnehmer: max. 16 \n–> Neuer Standort: Mailust 2\, Koblenz (neben Globus Tankstelle) \nChristmas Menü  \nWinterlicher Feldsalat mit Birne\, Walnuss und Ziegenkäse und Brot Chips \n*** \nBeeren-Kirschsorbet \n*** \nKnusprige Entenkeule mit Entensauce\, Rotkohl und Serviettenknödeln \n*** \nSchokoladenkuchen mit flüssigem Kern auf Vanillesauce und würzigen Orangenfilets \n\nZu allen Menüs wird bei der Vorspeise Brot gebacken.\nEs werden immer Alternativen für Vegetarier/ Veganer zubereitet. Bitte geben Sie uns hierzu eine Info bei der Ticketbuchung!\n\n
URL:https://die-kochschule-koblenz.de/event/christmas-cooking-27-11-2025-neu/
END:VEVENT
END:VCALENDAR