BEGIN:VCALENDAR
VERSION:2.0
PRODID:-//Stefan Steeg DIE KOCHSCHULE - ECPv4.9.13//NONSGML v1.0//EN
CALSCALE:GREGORIAN
METHOD:PUBLISH
X-WR-CALNAME:Stefan Steeg DIE KOCHSCHULE
X-ORIGINAL-URL:https://die-kochschule-koblenz.de
X-WR-CALDESC:Veranstaltungen für Stefan Steeg DIE KOCHSCHULE
BEGIN:VTIMEZONE
TZID:UTC
BEGIN:STANDARD
TZOFFSETFROM:+0000
TZOFFSETTO:+0000
TZNAME:UTC
DTSTART:20250101T000000
END:STANDARD
END:VTIMEZONE
BEGIN:VEVENT
DTSTART;TZID=UTC:20251118T180000
DTEND;TZID=UTC:20251118T230000
DTSTAMP:20260424T112725
CREATED:20250527T072616Z
LAST-MODIFIED:20250527T072616Z
UID:54339-1763488800-1763506800@die-kochschule-koblenz.de
SUMMARY:Burger Kurs 18.11.2025
DESCRIPTION:Liebe Teilnehmerinnen & Teilnehmer\, \ngenießen Sie dieses Erlebnis in unserer Kochschule und zaubern Sie sich einen tollen Burger ganz nach Ihren Wünschen. \nAblauf: \n– Beginn 18 Uhr mit einem Sektempfang\n– Ansprache Koch und Zutateneinweisung + Erklärung Besonderheiten\n– Zubereitung der Speise\n– Gemeinsame Verkostung & gemütliches Beisammensein\n– Verteilung der Rezeptmappe \nDauer max. 4-5 Stunden\nTeilnehmer: max. 16 \n–> Neuer Standort: Mailust 2\, Koblenz (neben Globus Tankstelle) \nDas Menü \nBurger zum selbst kreieren: \n\nBrioche Brötchen\nRindfleisch Petty\nFalafel Petty\nLachs Petty\nwas Gesundes: Salat\, Tomate\, Gewürzgurke\, Jalapenos\nExtra lecker: Spiegelei\, Chili-Cheese Sauce\, Cheddar\,\n\ngeschmolzene Zwiebeln\, Guacamole \n\nSaucen: Trüffel Mayo\, Burger Sauce\, Ketchup\, Terijakisauce\nBeilage: Country Potatoes\n\n*** \nCookie dough mit Vanilleeis \n
URL:https://die-kochschule-koblenz.de/event/burger-kurs-18-11-2025/
END:VEVENT
END:VCALENDAR